BEGIN:VCALENDAR
VERSION:2.0
PRODID:-//DTKV - Deutscher Tipp-Kick-Verband - ECPv6.15.20//NONSGML v1.0//EN
CALSCALE:GREGORIAN
METHOD:PUBLISH
X-ORIGINAL-URL:https://dtkv.info
X-WR-CALDESC:Veranstaltungen für DTKV - Deutscher Tipp-Kick-Verband
REFRESH-INTERVAL;VALUE=DURATION:PT1H
X-Robots-Tag:noindex
X-PUBLISHED-TTL:PT1H
BEGIN:VTIMEZONE
TZID:Europe/Berlin
BEGIN:DAYLIGHT
TZOFFSETFROM:+0100
TZOFFSETTO:+0200
TZNAME:CEST
DTSTART:20250330T010000
END:DAYLIGHT
BEGIN:STANDARD
TZOFFSETFROM:+0200
TZOFFSETTO:+0100
TZNAME:CET
DTSTART:20251026T010000
END:STANDARD
BEGIN:DAYLIGHT
TZOFFSETFROM:+0100
TZOFFSETTO:+0200
TZNAME:CEST
DTSTART:20260329T010000
END:DAYLIGHT
BEGIN:STANDARD
TZOFFSETFROM:+0200
TZOFFSETTO:+0100
TZNAME:CET
DTSTART:20261025T010000
END:STANDARD
BEGIN:DAYLIGHT
TZOFFSETFROM:+0100
TZOFFSETTO:+0200
TZNAME:CEST
DTSTART:20270328T010000
END:DAYLIGHT
BEGIN:STANDARD
TZOFFSETFROM:+0200
TZOFFSETTO:+0100
TZNAME:CET
DTSTART:20271031T010000
END:STANDARD
END:VTIMEZONE
BEGIN:VEVENT
DTSTART;VALUE=DATE:20260307
DTEND;VALUE=DATE:20260308
DTSTAMP:20260419T164757
CREATED:20250921T194444Z
LAST-MODIFIED:20250928T232700Z
UID:52449-1772841600-1772927999@dtkv.info
SUMMARY:65. Norddeutsche Einzelmeisterschaft
DESCRIPTION:Anmeldung: https://tkvjerze.de/
URL:https://dtkv.info/veranstaltung/65-norddeutsche-einzelmeisterschaft-2
LOCATION:Bornum b. Bockenem
CATEGORIES:Einzelturnier
END:VEVENT
BEGIN:VEVENT
DTSTART;VALUE=DATE:20260307
DTEND;VALUE=DATE:20260308
DTSTAMP:20260419T164757
CREATED:20250928T232751Z
LAST-MODIFIED:20250928T232751Z
UID:52722-1772841600-1772927999@dtkv.info
SUMMARY:8. Jerzer Dorfpokal
DESCRIPTION:Anmeldung: https://tkvjerze.de/
URL:https://dtkv.info/veranstaltung/8-jerzer-dorfpokal
LOCATION:Bornum b. Bockenem
CATEGORIES:Einzelturnier
END:VEVENT
END:VCALENDAR